BEGIN:VCALENDAR
VERSION:2.0
PRODID:-//Association of ICAF and ES Alumni - ECPv6.15.20//NONSGML v1.0//EN
CALSCALE:GREGORIAN
METHOD:PUBLISH
X-WR-CALNAME:Association of ICAF and ES Alumni
X-ORIGINAL-URL:https://icaf-es-association.org
X-WR-CALDESC:Events for Association of ICAF and ES Alumni
REFRESH-INTERVAL;VALUE=DURATION:PT1H
X-Robots-Tag:noindex
X-PUBLISHED-TTL:PT1H
BEGIN:VTIMEZONE
TZID:America/New_York
BEGIN:DAYLIGHT
TZOFFSETFROM:-0500
TZOFFSETTO:-0400
TZNAME:EDT
DTSTART:20170312T070000
END:DAYLIGHT
BEGIN:STANDARD
TZOFFSETFROM:-0400
TZOFFSETTO:-0500
TZNAME:EST
DTSTART:20171105T060000
END:STANDARD
BEGIN:DAYLIGHT
TZOFFSETFROM:-0500
TZOFFSETTO:-0400
TZNAME:EDT
DTSTART:20180311T070000
END:DAYLIGHT
BEGIN:STANDARD
TZOFFSETFROM:-0400
TZOFFSETTO:-0500
TZNAME:EST
DTSTART:20181104T060000
END:STANDARD
BEGIN:DAYLIGHT
TZOFFSETFROM:-0500
TZOFFSETTO:-0400
TZNAME:EDT
DTSTART:20190310T070000
END:DAYLIGHT
BEGIN:STANDARD
TZOFFSETFROM:-0400
TZOFFSETTO:-0500
TZNAME:EST
DTSTART:20191103T060000
END:STANDARD
END:VTIMEZONE
BEGIN:VEVENT
DTSTART;VALUE=DATE:20181127
DTEND;VALUE=DATE:20181128
DTSTAMP:20260424T225532
CREATED:20181115T200321Z
LAST-MODIFIED:20181115T200404Z
UID:1287-1543276800-1543363199@icaf-es-association.org
SUMMARY:Giving Tuesday
DESCRIPTION:We appreciate your support\, today and always. This Giving Tuesday\, please consider donating to the ICAF-ES Alumni Association. Your contribution supports the Major General Joseph D. and Sue Brown scholarship fund\, which provides academic scholarships to high school seniors of Lifetime Association members. Currently\, we award three $500 scholarships\, with a goal to increase the award amount to $1\,500 each. \nAs a 501(c)(3) non-profit organization\, we rely on membership dues and charitable donations to keep us growing and going. This year\, our goal is to raise $10\,000. Can you help? Visit the IMart online to make your donation. Thank you! \n  \nShare this:\n				Share on Facebook (Opens in new window)\n				Facebook\n			\n				Share on LinkedIn (Opens in new window)\n				LinkedIn\n			\n				Share on X (Opens in new window)\n				X
URL:https://icaf-es-association.org/event/giving-tuesday/
CATEGORIES:Alumni,Association,Fundraising,IMart
END:VEVENT
END:VCALENDAR