BEGIN:VCALENDAR
VERSION:2.0
PRODID:-//Association of ICAF and ES Alumni - ECPv6.15.20//NONSGML v1.0//EN
CALSCALE:GREGORIAN
METHOD:PUBLISH
X-ORIGINAL-URL:https://icaf-es-association.org
X-WR-CALDESC:Events for Association of ICAF and ES Alumni
REFRESH-INTERVAL;VALUE=DURATION:PT1H
X-Robots-Tag:noindex
X-PUBLISHED-TTL:PT1H
BEGIN:VTIMEZONE
TZID:America/New_York
BEGIN:DAYLIGHT
TZOFFSETFROM:-0500
TZOFFSETTO:-0400
TZNAME:EDT
DTSTART:20160313T070000
END:DAYLIGHT
BEGIN:STANDARD
TZOFFSETFROM:-0400
TZOFFSETTO:-0500
TZNAME:EST
DTSTART:20161106T060000
END:STANDARD
BEGIN:DAYLIGHT
TZOFFSETFROM:-0500
TZOFFSETTO:-0400
TZNAME:EDT
DTSTART:20170312T070000
END:DAYLIGHT
BEGIN:STANDARD
TZOFFSETFROM:-0400
TZOFFSETTO:-0500
TZNAME:EST
DTSTART:20171105T060000
END:STANDARD
BEGIN:DAYLIGHT
TZOFFSETFROM:-0500
TZOFFSETTO:-0400
TZNAME:EDT
DTSTART:20180311T070000
END:DAYLIGHT
BEGIN:STANDARD
TZOFFSETFROM:-0400
TZOFFSETTO:-0500
TZNAME:EST
DTSTART:20181104T060000
END:STANDARD
BEGIN:DAYLIGHT
TZOFFSETFROM:-0500
TZOFFSETTO:-0400
TZNAME:EDT
DTSTART:20190310T070000
END:DAYLIGHT
BEGIN:STANDARD
TZOFFSETFROM:-0400
TZOFFSETTO:-0500
TZNAME:EST
DTSTART:20191103T060000
END:STANDARD
BEGIN:DAYLIGHT
TZOFFSETFROM:-0500
TZOFFSETTO:-0400
TZNAME:EDT
DTSTART:20200308T070000
END:DAYLIGHT
BEGIN:STANDARD
TZOFFSETFROM:-0400
TZOFFSETTO:-0500
TZNAME:EST
DTSTART:20201101T060000
END:STANDARD
BEGIN:DAYLIGHT
TZOFFSETFROM:-0500
TZOFFSETTO:-0400
TZNAME:EDT
DTSTART:20210314T070000
END:DAYLIGHT
BEGIN:STANDARD
TZOFFSETFROM:-0400
TZOFFSETTO:-0500
TZNAME:EST
DTSTART:20211107T060000
END:STANDARD
BEGIN:DAYLIGHT
TZOFFSETFROM:-0500
TZOFFSETTO:-0400
TZNAME:EDT
DTSTART:20220313T070000
END:DAYLIGHT
BEGIN:STANDARD
TZOFFSETFROM:-0400
TZOFFSETTO:-0500
TZNAME:EST
DTSTART:20221106T060000
END:STANDARD
BEGIN:DAYLIGHT
TZOFFSETFROM:-0500
TZOFFSETTO:-0400
TZNAME:EDT
DTSTART:20230312T070000
END:DAYLIGHT
BEGIN:STANDARD
TZOFFSETFROM:-0400
TZOFFSETTO:-0500
TZNAME:EST
DTSTART:20231105T060000
END:STANDARD
BEGIN:DAYLIGHT
TZOFFSETFROM:-0500
TZOFFSETTO:-0400
TZNAME:EDT
DTSTART:20240310T070000
END:DAYLIGHT
BEGIN:STANDARD
TZOFFSETFROM:-0400
TZOFFSETTO:-0500
TZNAME:EST
DTSTART:20241103T060000
END:STANDARD
END:VTIMEZONE
BEGIN:VEVENT
DTSTART;TZID=America/New_York:20230907T173000
DTEND;TZID=America/New_York:20230907T193000
DTSTAMP:20260424T172906
CREATED:20171223T195311Z
LAST-MODIFIED:20171223T195311Z
UID:1641-1694107800-1694115000@icaf-es-association.org
SUMMARY:Thirsty Thursday
DESCRIPTION:Mingle with fellow alumni and current students \nShare this:\n				Share on Facebook (Opens in new window)\n				Facebook\n			\n				Share on LinkedIn (Opens in new window)\n				LinkedIn\n			\n				Share on X (Opens in new window)\n				X
URL:https://icaf-es-association.org/event/947-2018-02-01-2023-09-07/
LOCATION:Siné Irish Pub\, 1301 S Joyce Street\, Arlington\, VA\, 22202\, United States
CATEGORIES:Alumni,Social,Thirsty Thursday
END:VEVENT
BEGIN:VEVENT
DTSTART;TZID=America/New_York:20230803T173000
DTEND;TZID=America/New_York:20230803T193000
DTSTAMP:20260424T172906
CREATED:20171223T195311Z
LAST-MODIFIED:20171223T195311Z
UID:1611-1691083800-1691091000@icaf-es-association.org
SUMMARY:Thirsty Thursday
DESCRIPTION:Mingle with fellow alumni and current students \nShare this:\n				Share on Facebook (Opens in new window)\n				Facebook\n			\n				Share on LinkedIn (Opens in new window)\n				LinkedIn\n			\n				Share on X (Opens in new window)\n				X
URL:https://icaf-es-association.org/event/947-2018-02-01-2023-08-03/
LOCATION:Siné Irish Pub\, 1301 S Joyce Street\, Arlington\, VA\, 22202\, United States
CATEGORIES:Alumni,Social,Thirsty Thursday
END:VEVENT
BEGIN:VEVENT
DTSTART;TZID=America/New_York:20230706T173000
DTEND;TZID=America/New_York:20230706T193000
DTSTAMP:20260424T172906
CREATED:20171223T195311Z
LAST-MODIFIED:20171223T195311Z
UID:1609-1688664600-1688671800@icaf-es-association.org
SUMMARY:Thirsty Thursday
DESCRIPTION:Mingle with fellow alumni and current students \nShare this:\n				Share on Facebook (Opens in new window)\n				Facebook\n			\n				Share on LinkedIn (Opens in new window)\n				LinkedIn\n			\n				Share on X (Opens in new window)\n				X
URL:https://icaf-es-association.org/event/947-2018-02-01-2023-07-06/
LOCATION:Siné Irish Pub\, 1301 S Joyce Street\, Arlington\, VA\, 22202\, United States
CATEGORIES:Alumni,Social,Thirsty Thursday
END:VEVENT
BEGIN:VEVENT
DTSTART;TZID=America/New_York:20230601T173000
DTEND;TZID=America/New_York:20230601T193000
DTSTAMP:20260424T172906
CREATED:20171223T195311Z
LAST-MODIFIED:20171223T195311Z
UID:1602-1685640600-1685647800@icaf-es-association.org
SUMMARY:Thirsty Thursday
DESCRIPTION:Mingle with fellow alumni and current students \nShare this:\n				Share on Facebook (Opens in new window)\n				Facebook\n			\n				Share on LinkedIn (Opens in new window)\n				LinkedIn\n			\n				Share on X (Opens in new window)\n				X
URL:https://icaf-es-association.org/event/947-2018-02-01-2023-06-01/
LOCATION:Siné Irish Pub\, 1301 S Joyce Street\, Arlington\, VA\, 22202\, United States
CATEGORIES:Alumni,Social,Thirsty Thursday
END:VEVENT
BEGIN:VEVENT
DTSTART;TZID=America/New_York:20220421T170000
DTEND;TZID=America/New_York:20220421T170000
DTSTAMP:20260424T172906
CREATED:20220301T151353Z
LAST-MODIFIED:20220421T123037Z
UID:1719-1650560400-1650560400@icaf-es-association.org
SUMMARY:Thirsty Thursday
DESCRIPTION:5:00pm \nCrystal City Sports Pub\, 529 23rd St S\, Arlington\, VA 22202 \nShare this:\n				Share on Facebook (Opens in new window)\n				Facebook\n			\n				Share on LinkedIn (Opens in new window)\n				LinkedIn\n			\n				Share on X (Opens in new window)\n				X
URL:https://icaf-es-association.org/event/thirsty-thursday-4/
LOCATION:Crystal City Sports Club\, 529 23rd St S\, Arlington\, BA\, 22202
CATEGORIES:Alumni,Association,Social,Student,Thirsty Thursday
END:VEVENT
BEGIN:VEVENT
DTSTART;TZID=America/New_York:20220210T170000
DTEND;TZID=America/New_York:20220210T170000
DTSTAMP:20260424T172906
CREATED:20220207T184741Z
LAST-MODIFIED:20220207T184741Z
UID:1681-1644512400-1644512400@icaf-es-association.org
SUMMARY:Thirsty Thursday
DESCRIPTION:Share this:\n				Share on Facebook (Opens in new window)\n				Facebook\n			\n				Share on LinkedIn (Opens in new window)\n				LinkedIn\n			\n				Share on X (Opens in new window)\n				X
URL:https://icaf-es-association.org/event/thirsty-thursday-3/
LOCATION:Crystal City Sports Club\, 529 23rd St S\, Arlington\, BA\, 22202
CATEGORIES:Alumni,Social,Student,Thirsty Thursday
END:VEVENT
BEGIN:VEVENT
DTSTART;TZID=America/New_York:20210923T170000
DTEND;TZID=America/New_York:20210923T170000
DTSTAMP:20260424T172906
CREATED:20210902T015228Z
LAST-MODIFIED:20210902T015228Z
UID:1630-1632416400-1632416400@icaf-es-association.org
SUMMARY:Thirsty Thursday
DESCRIPTION:Networking Event for Current Students and Alumni \nShare this:\n				Share on Facebook (Opens in new window)\n				Facebook\n			\n				Share on LinkedIn (Opens in new window)\n				LinkedIn\n			\n				Share on X (Opens in new window)\n				X
URL:https://icaf-es-association.org/event/thirsty-thursday-2/
LOCATION:VFW\, Post 3150 2116 19th Street N Arlington\, VA 22201\, 2116 19th Street N\, Arlington\, Arlington\, 22201
CATEGORIES:Alumni,Social,Student,Thirsty Thursday
END:VEVENT
BEGIN:VEVENT
DTSTART;TZID=America/New_York:20201105T173000
DTEND;TZID=America/New_York:20201105T193000
DTSTAMP:20260424T172906
CREATED:20171223T195311Z
LAST-MODIFIED:20190430T141130Z
UID:1285-1604597400-1604604600@icaf-es-association.org
SUMMARY:Thirsty Thursday
DESCRIPTION:Mingle with fellow alumni and current students \nShare this:\n				Share on Facebook (Opens in new window)\n				Facebook\n			\n				Share on LinkedIn (Opens in new window)\n				LinkedIn\n			\n				Share on X (Opens in new window)\n				X
URL:https://icaf-es-association.org/event/947-2018-02-01-2020-11-05/
LOCATION:Siné Irish Pub\, 1301 S Joyce Street\, Arlington\, VA\, 22202\, United States
CATEGORIES:Alumni,Social,Thirsty Thursday
END:VEVENT
BEGIN:VEVENT
DTSTART;TZID=America/New_York:20201001T173000
DTEND;TZID=America/New_York:20201001T193000
DTSTAMP:20260424T172906
CREATED:20171223T195311Z
LAST-MODIFIED:20190430T141130Z
UID:1240-1601573400-1601580600@icaf-es-association.org
SUMMARY:Thirsty Thursday
DESCRIPTION:Mingle with fellow alumni and current students \nShare this:\n				Share on Facebook (Opens in new window)\n				Facebook\n			\n				Share on LinkedIn (Opens in new window)\n				LinkedIn\n			\n				Share on X (Opens in new window)\n				X
URL:https://icaf-es-association.org/event/947-2018-02-01-2020-10-01/
LOCATION:Siné Irish Pub\, 1301 S Joyce Street\, Arlington\, VA\, 22202\, United States
CATEGORIES:Alumni,Social,Thirsty Thursday
END:VEVENT
BEGIN:VEVENT
DTSTART;TZID=America/New_York:20200903T173000
DTEND;TZID=America/New_York:20200903T193000
DTSTAMP:20260424T172906
CREATED:20171223T195311Z
LAST-MODIFIED:20190430T141130Z
UID:1217-1599154200-1599161400@icaf-es-association.org
SUMMARY:Thirsty Thursday
DESCRIPTION:Mingle with fellow alumni and current students \nShare this:\n				Share on Facebook (Opens in new window)\n				Facebook\n			\n				Share on LinkedIn (Opens in new window)\n				LinkedIn\n			\n				Share on X (Opens in new window)\n				X
URL:https://icaf-es-association.org/event/947-2018-02-01-2020-09-03/
LOCATION:Siné Irish Pub\, 1301 S Joyce Street\, Arlington\, VA\, 22202\, United States
CATEGORIES:Alumni,Social,Thirsty Thursday
END:VEVENT
BEGIN:VEVENT
DTSTART;TZID=America/New_York:20200806T173000
DTEND;TZID=America/New_York:20200806T193000
DTSTAMP:20260424T172906
CREATED:20171223T195311Z
LAST-MODIFIED:20190430T141129Z
UID:1205-1596735000-1596742200@icaf-es-association.org
SUMMARY:Thirsty Thursday
DESCRIPTION:Mingle with fellow alumni and current students \nShare this:\n				Share on Facebook (Opens in new window)\n				Facebook\n			\n				Share on LinkedIn (Opens in new window)\n				LinkedIn\n			\n				Share on X (Opens in new window)\n				X
URL:https://icaf-es-association.org/event/947-2018-02-01-2020-08-06/
LOCATION:Siné Irish Pub\, 1301 S Joyce Street\, Arlington\, VA\, 22202\, United States
CATEGORIES:Alumni,Social,Thirsty Thursday
END:VEVENT
BEGIN:VEVENT
DTSTART;VALUE=DATE:20180704
DTEND;VALUE=DATE:20180705
DTSTAMP:20260424T172906
CREATED:20171223T200426Z
LAST-MODIFIED:20171223T200511Z
UID:1007-1530662400-1530748799@icaf-es-association.org
SUMMARY:July Fourth Celebration
DESCRIPTION:Join us on the lawn at Fort McNair to watch the Capital fireworks spectacle.  Seating reserved for 300 alumni and guests.  RSVP details to follow… \nShare this:\n				Share on Facebook (Opens in new window)\n				Facebook\n			\n				Share on LinkedIn (Opens in new window)\n				LinkedIn\n			\n				Share on X (Opens in new window)\n				X
URL:https://icaf-es-association.org/event/july-fourth-celebration/
LOCATION:VA
CATEGORIES:Alumni,Association,Social
END:VEVENT
BEGIN:VEVENT
DTSTART;TZID=America/New_York:20180201T173000
DTEND;TZID=America/New_York:20180201T193000
DTSTAMP:20260424T172906
CREATED:20171223T195311Z
LAST-MODIFIED:20190430T133624Z
UID:949-1517506200-1517513400@icaf-es-association.org
SUMMARY:Thirsty Thursday
DESCRIPTION:Mingle with fellow alumni and current students \nShare this:\n				Share on Facebook (Opens in new window)\n				Facebook\n			\n				Share on LinkedIn (Opens in new window)\n				LinkedIn\n			\n				Share on X (Opens in new window)\n				X
URL:https://icaf-es-association.org/event/947-2018-02-01/
LOCATION:Siné Irish Pub\, 1301 S Joyce Street\, Arlington\, VA\, 22202\, United States
CATEGORIES:Alumni,Social,Thirsty Thursday
END:VEVENT
BEGIN:VEVENT
DTSTART;TZID=America/New_York:20180104T173000
DTEND;TZID=America/New_York:20180104T193000
DTSTAMP:20260424T172906
CREATED:20171223T195311Z
LAST-MODIFIED:20180103T195933Z
UID:947-1515087000-1515094200@icaf-es-association.org
SUMMARY:Thirsty Thursday
DESCRIPTION:Mingle with fellow alumni and current students \nShare this:\n				Share on Facebook (Opens in new window)\n				Facebook\n			\n				Share on LinkedIn (Opens in new window)\n				LinkedIn\n			\n				Share on X (Opens in new window)\n				X
URL:https://icaf-es-association.org/event/947/
LOCATION:Siné Irish Pub\, 1301 S Joyce Street\, Arlington\, VA\, 22202\, United States
CATEGORIES:Alumni,Social,Thirsty Thursday
ATTACH;FMTTYPE=image/png:https://icaf-es-association.org/wp-content/uploads/2018/01/Thirsty-Thursday-Newsletter-2.png
END:VEVENT
BEGIN:VEVENT
DTSTART;TZID=America/New_York:20171207T100000
DTEND;TZID=America/New_York:20171207T140000
DTSTAMP:20260424T172906
CREATED:20171129T204411Z
LAST-MODIFIED:20171129T204411Z
UID:651-1512640800-1512655200@icaf-es-association.org
SUMMARY:Holiday Bazaar
DESCRIPTION:Join us for our annual holiday bazaar\, complete with light refreshments\, IMart shopping specials\, and featuring John Michael\, historian and author.  Michael’s works include Images of America: Fort Lesley J. McNair. \nRoom 126 at the Eisenhower School\, Building 59. \nShare this:\n				Share on Facebook (Opens in new window)\n				Facebook\n			\n				Share on LinkedIn (Opens in new window)\n				LinkedIn\n			\n				Share on X (Opens in new window)\n				X
URL:https://icaf-es-association.org/event/holiday-bazaar/
LOCATION:Fort McNair\, 408 4th Ave SW\, Fort McNair\, DC\, 20319\, United States
CATEGORIES:Alumni,Association,IMart,Social
END:VEVENT
END:VCALENDAR