BEGIN:VCALENDAR
VERSION:2.0
PRODID:-//Association of ICAF and ES Alumni - ECPv6.15.20//NONSGML v1.0//EN
CALSCALE:GREGORIAN
METHOD:PUBLISH
X-ORIGINAL-URL:https://icaf-es-association.org
X-WR-CALDESC:Events for Association of ICAF and ES Alumni
REFRESH-INTERVAL;VALUE=DURATION:PT1H
X-Robots-Tag:noindex
X-PUBLISHED-TTL:PT1H
BEGIN:VTIMEZONE
TZID:America/New_York
BEGIN:DAYLIGHT
TZOFFSETFROM:-0500
TZOFFSETTO:-0400
TZNAME:EDT
DTSTART:20200308T070000
END:DAYLIGHT
BEGIN:STANDARD
TZOFFSETFROM:-0400
TZOFFSETTO:-0500
TZNAME:EST
DTSTART:20201101T060000
END:STANDARD
BEGIN:DAYLIGHT
TZOFFSETFROM:-0500
TZOFFSETTO:-0400
TZNAME:EDT
DTSTART:20210314T070000
END:DAYLIGHT
BEGIN:STANDARD
TZOFFSETFROM:-0400
TZOFFSETTO:-0500
TZNAME:EST
DTSTART:20211107T060000
END:STANDARD
BEGIN:DAYLIGHT
TZOFFSETFROM:-0500
TZOFFSETTO:-0400
TZNAME:EDT
DTSTART:20220313T070000
END:DAYLIGHT
BEGIN:STANDARD
TZOFFSETFROM:-0400
TZOFFSETTO:-0500
TZNAME:EST
DTSTART:20221106T060000
END:STANDARD
BEGIN:DAYLIGHT
TZOFFSETFROM:-0500
TZOFFSETTO:-0400
TZNAME:EDT
DTSTART:20230312T070000
END:DAYLIGHT
BEGIN:STANDARD
TZOFFSETFROM:-0400
TZOFFSETTO:-0500
TZNAME:EST
DTSTART:20231105T060000
END:STANDARD
BEGIN:DAYLIGHT
TZOFFSETFROM:-0500
TZOFFSETTO:-0400
TZNAME:EDT
DTSTART:20240310T070000
END:DAYLIGHT
BEGIN:STANDARD
TZOFFSETFROM:-0400
TZOFFSETTO:-0500
TZNAME:EST
DTSTART:20241103T060000
END:STANDARD
END:VTIMEZONE
BEGIN:VEVENT
DTSTART;TZID=America/New_York:20231207T173000
DTEND;TZID=America/New_York:20231207T193000
DTSTAMP:20260424T132018
CREATED:20171223T195311Z
LAST-MODIFIED:20171223T195311Z
UID:1650-1701970200-1701977400@icaf-es-association.org
SUMMARY:Thirsty Thursday
DESCRIPTION:Mingle with fellow alumni and current students \nShare this:\n				Share on Facebook (Opens in new window)\n				Facebook\n			\n				Share on LinkedIn (Opens in new window)\n				LinkedIn\n			\n				Share on X (Opens in new window)\n				X
URL:https://icaf-es-association.org/event/947-2018-02-01-2023-12-07/
LOCATION:Siné Irish Pub\, 1301 S Joyce Street\, Arlington\, VA\, 22202\, United States
CATEGORIES:Alumni,Social,Thirsty Thursday
END:VEVENT
BEGIN:VEVENT
DTSTART;VALUE=DATE:20231110
DTEND;VALUE=DATE:20231111
DTSTAMP:20260424T132018
CREATED:20170503T012300Z
LAST-MODIFIED:20170503T012300Z
UID:1649-1699574400-1699660799@icaf-es-association.org
SUMMARY:Marine Corps Birthday
DESCRIPTION:The Marine Corps was founded on Nov. 10\, 1775. \nShare this:\n				Share on Facebook (Opens in new window)\n				Facebook\n			\n				Share on LinkedIn (Opens in new window)\n				LinkedIn\n			\n				Share on X (Opens in new window)\n				X
URL:https://icaf-es-association.org/event/marine-corps-birthday-2023-11-10/
LOCATION:Arlington
CATEGORIES:Service Birthdays
END:VEVENT
BEGIN:VEVENT
DTSTART;TZID=America/New_York:20231102T173000
DTEND;TZID=America/New_York:20231102T193000
DTSTAMP:20260424T132018
CREATED:20171223T195311Z
LAST-MODIFIED:20171223T195311Z
UID:1647-1698946200-1698953400@icaf-es-association.org
SUMMARY:Thirsty Thursday
DESCRIPTION:Mingle with fellow alumni and current students \nShare this:\n				Share on Facebook (Opens in new window)\n				Facebook\n			\n				Share on LinkedIn (Opens in new window)\n				LinkedIn\n			\n				Share on X (Opens in new window)\n				X
URL:https://icaf-es-association.org/event/947-2018-02-01-2023-11-02/
LOCATION:Siné Irish Pub\, 1301 S Joyce Street\, Arlington\, VA\, 22202\, United States
CATEGORIES:Alumni,Social,Thirsty Thursday
END:VEVENT
BEGIN:VEVENT
DTSTART;VALUE=DATE:20231013
DTEND;VALUE=DATE:20231014
DTSTAMP:20260424T132018
CREATED:20170503T012518Z
LAST-MODIFIED:20170503T012518Z
UID:1645-1697155200-1697241599@icaf-es-association.org
SUMMARY:Navy Birthday
DESCRIPTION:The Navy’s origins trace back to Oct. 13\, 1775. \nShare this:\n				Share on Facebook (Opens in new window)\n				Facebook\n			\n				Share on LinkedIn (Opens in new window)\n				LinkedIn\n			\n				Share on X (Opens in new window)\n				X
URL:https://icaf-es-association.org/event/navy-birthday-2023-10-13/
LOCATION:Arlington
CATEGORIES:Service Birthdays
END:VEVENT
BEGIN:VEVENT
DTSTART;TZID=America/New_York:20231005T173000
DTEND;TZID=America/New_York:20231005T193000
DTSTAMP:20260424T132018
CREATED:20171223T195311Z
LAST-MODIFIED:20171223T195311Z
UID:1644-1696527000-1696534200@icaf-es-association.org
SUMMARY:Thirsty Thursday
DESCRIPTION:Mingle with fellow alumni and current students \nShare this:\n				Share on Facebook (Opens in new window)\n				Facebook\n			\n				Share on LinkedIn (Opens in new window)\n				LinkedIn\n			\n				Share on X (Opens in new window)\n				X
URL:https://icaf-es-association.org/event/947-2018-02-01-2023-10-05/
LOCATION:Siné Irish Pub\, 1301 S Joyce Street\, Arlington\, VA\, 22202\, United States
CATEGORIES:Alumni,Social,Thirsty Thursday
END:VEVENT
BEGIN:VEVENT
DTSTART;VALUE=DATE:20230918
DTEND;VALUE=DATE:20230919
DTSTAMP:20260424T132018
CREATED:20170503T012416Z
LAST-MODIFIED:20170503T012416Z
UID:1643-1694995200-1695081599@icaf-es-association.org
SUMMARY:Air Force Birthday
DESCRIPTION:The youngest of the United State’s military services\, the Air Force was founded on Sept. 16\, 1947. \nShare this:\n				Share on Facebook (Opens in new window)\n				Facebook\n			\n				Share on LinkedIn (Opens in new window)\n				LinkedIn\n			\n				Share on X (Opens in new window)\n				X
URL:https://icaf-es-association.org/event/air-force-birthday-2023-09-18/
LOCATION:Arlington
CATEGORIES:Service Birthdays
END:VEVENT
BEGIN:VEVENT
DTSTART;TZID=America/New_York:20230907T173000
DTEND;TZID=America/New_York:20230907T193000
DTSTAMP:20260424T132018
CREATED:20171223T195311Z
LAST-MODIFIED:20171223T195311Z
UID:1641-1694107800-1694115000@icaf-es-association.org
SUMMARY:Thirsty Thursday
DESCRIPTION:Mingle with fellow alumni and current students \nShare this:\n				Share on Facebook (Opens in new window)\n				Facebook\n			\n				Share on LinkedIn (Opens in new window)\n				LinkedIn\n			\n				Share on X (Opens in new window)\n				X
URL:https://icaf-es-association.org/event/947-2018-02-01-2023-09-07/
LOCATION:Siné Irish Pub\, 1301 S Joyce Street\, Arlington\, VA\, 22202\, United States
CATEGORIES:Alumni,Social,Thirsty Thursday
END:VEVENT
BEGIN:VEVENT
DTSTART;TZID=America/New_York:20230803T173000
DTEND;TZID=America/New_York:20230803T193000
DTSTAMP:20260424T132018
CREATED:20171223T195311Z
LAST-MODIFIED:20171223T195311Z
UID:1611-1691083800-1691091000@icaf-es-association.org
SUMMARY:Thirsty Thursday
DESCRIPTION:Mingle with fellow alumni and current students \nShare this:\n				Share on Facebook (Opens in new window)\n				Facebook\n			\n				Share on LinkedIn (Opens in new window)\n				LinkedIn\n			\n				Share on X (Opens in new window)\n				X
URL:https://icaf-es-association.org/event/947-2018-02-01-2023-08-03/
LOCATION:Siné Irish Pub\, 1301 S Joyce Street\, Arlington\, VA\, 22202\, United States
CATEGORIES:Alumni,Social,Thirsty Thursday
END:VEVENT
BEGIN:VEVENT
DTSTART;TZID=America/New_York:20230706T173000
DTEND;TZID=America/New_York:20230706T193000
DTSTAMP:20260424T132018
CREATED:20171223T195311Z
LAST-MODIFIED:20171223T195311Z
UID:1609-1688664600-1688671800@icaf-es-association.org
SUMMARY:Thirsty Thursday
DESCRIPTION:Mingle with fellow alumni and current students \nShare this:\n				Share on Facebook (Opens in new window)\n				Facebook\n			\n				Share on LinkedIn (Opens in new window)\n				LinkedIn\n			\n				Share on X (Opens in new window)\n				X
URL:https://icaf-es-association.org/event/947-2018-02-01-2023-07-06/
LOCATION:Siné Irish Pub\, 1301 S Joyce Street\, Arlington\, VA\, 22202\, United States
CATEGORIES:Alumni,Social,Thirsty Thursday
END:VEVENT
BEGIN:VEVENT
DTSTART;VALUE=DATE:20230614
DTEND;VALUE=DATE:20230615
DTSTAMP:20260424T132018
CREATED:20170503T011917Z
LAST-MODIFIED:20170503T011917Z
UID:1607-1686700800-1686787199@icaf-es-association.org
SUMMARY:Army Birthday
DESCRIPTION:The U.S. Army was founded on 14 June 1775. \nShare this:\n				Share on Facebook (Opens in new window)\n				Facebook\n			\n				Share on LinkedIn (Opens in new window)\n				LinkedIn\n			\n				Share on X (Opens in new window)\n				X
URL:https://icaf-es-association.org/event/army-birthday-2023-06-14/
LOCATION:Arlington
CATEGORIES:Service Birthdays
END:VEVENT
BEGIN:VEVENT
DTSTART;TZID=America/New_York:20230601T173000
DTEND;TZID=America/New_York:20230601T193000
DTSTAMP:20260424T132018
CREATED:20171223T195311Z
LAST-MODIFIED:20171223T195311Z
UID:1602-1685640600-1685647800@icaf-es-association.org
SUMMARY:Thirsty Thursday
DESCRIPTION:Mingle with fellow alumni and current students \nShare this:\n				Share on Facebook (Opens in new window)\n				Facebook\n			\n				Share on LinkedIn (Opens in new window)\n				LinkedIn\n			\n				Share on X (Opens in new window)\n				X
URL:https://icaf-es-association.org/event/947-2018-02-01-2023-06-01/
LOCATION:Siné Irish Pub\, 1301 S Joyce Street\, Arlington\, VA\, 22202\, United States
CATEGORIES:Alumni,Social,Thirsty Thursday
END:VEVENT
BEGIN:VEVENT
DTSTART;VALUE=DATE:20230411
DTEND;VALUE=DATE:20230412
DTSTAMP:20260424T132018
CREATED:20170503T012841Z
LAST-MODIFIED:20170503T012841Z
UID:1555-1681171200-1681257599@icaf-es-association.org
SUMMARY:Navy Submarine Birthday
DESCRIPTION:The Navy’s submarine force was born on April 11\, 1900. \nShare this:\n				Share on Facebook (Opens in new window)\n				Facebook\n			\n				Share on LinkedIn (Opens in new window)\n				LinkedIn\n			\n				Share on X (Opens in new window)\n				X
URL:https://icaf-es-association.org/event/navy-submarine-birthday-2023-04-11/
LOCATION:Arlington
CATEGORIES:Service Birthdays
END:VEVENT
BEGIN:VEVENT
DTSTART;VALUE=DATE:20221213
DTEND;VALUE=DATE:20221214
DTSTAMP:20260424T132018
CREATED:20170503T012633Z
LAST-MODIFIED:20170503T012633Z
UID:1535-1670889600-1670975999@icaf-es-association.org
SUMMARY:National Guard Birthday
DESCRIPTION:The National Guard is the oldest component of the Armed Forces of the United States\, formed on Dec. 13\, 1636. \nShare this:\n				Share on Facebook (Opens in new window)\n				Facebook\n			\n				Share on LinkedIn (Opens in new window)\n				LinkedIn\n			\n				Share on X (Opens in new window)\n				X
URL:https://icaf-es-association.org/event/national-guard-birthday-2022-12-13/
LOCATION:Arlington
CATEGORIES:Service Birthdays
END:VEVENT
BEGIN:VEVENT
DTSTART;VALUE=DATE:20221110
DTEND;VALUE=DATE:20221111
DTSTAMP:20260424T132018
CREATED:20170503T012300Z
LAST-MODIFIED:20170503T012300Z
UID:1526-1668038400-1668124799@icaf-es-association.org
SUMMARY:Marine Corps Birthday
DESCRIPTION:The Marine Corps was founded on Nov. 10\, 1775. \nShare this:\n				Share on Facebook (Opens in new window)\n				Facebook\n			\n				Share on LinkedIn (Opens in new window)\n				LinkedIn\n			\n				Share on X (Opens in new window)\n				X
URL:https://icaf-es-association.org/event/marine-corps-birthday-2022-11-10/
LOCATION:Arlington
CATEGORIES:Service Birthdays
END:VEVENT
BEGIN:VEVENT
DTSTART;VALUE=DATE:20221013
DTEND;VALUE=DATE:20221014
DTSTAMP:20260424T132018
CREATED:20170503T012518Z
LAST-MODIFIED:20170503T012518Z
UID:1523-1665619200-1665705599@icaf-es-association.org
SUMMARY:Navy Birthday
DESCRIPTION:The Navy’s origins trace back to Oct. 13\, 1775. \nShare this:\n				Share on Facebook (Opens in new window)\n				Facebook\n			\n				Share on LinkedIn (Opens in new window)\n				LinkedIn\n			\n				Share on X (Opens in new window)\n				X
URL:https://icaf-es-association.org/event/navy-birthday-2022-10-13/
LOCATION:Arlington
CATEGORIES:Service Birthdays
END:VEVENT
BEGIN:VEVENT
DTSTART;VALUE=DATE:20220918
DTEND;VALUE=DATE:20220919
DTSTAMP:20260424T132018
CREATED:20170503T012416Z
LAST-MODIFIED:20170503T012416Z
UID:1520-1663459200-1663545599@icaf-es-association.org
SUMMARY:Air Force Birthday
DESCRIPTION:The youngest of the United State’s military services\, the Air Force was founded on Sept. 16\, 1947. \nShare this:\n				Share on Facebook (Opens in new window)\n				Facebook\n			\n				Share on LinkedIn (Opens in new window)\n				LinkedIn\n			\n				Share on X (Opens in new window)\n				X
URL:https://icaf-es-association.org/event/air-force-birthday-2022-09-18/
LOCATION:Arlington
CATEGORIES:Service Birthdays
END:VEVENT
BEGIN:VEVENT
DTSTART;TZID=America/New_York:20220811T170000
DTEND;TZID=America/New_York:20220811T210000
DTSTAMP:20260424T132018
CREATED:20220726T191303Z
LAST-MODIFIED:20220727T022416Z
UID:1748-1660237200-1660251600@icaf-es-association.org
SUMMARY:Thirsty Thursday
DESCRIPTION:Crystal City Sports Pub – Level 3 \n \nShare this:\n				Share on Facebook (Opens in new window)\n				Facebook\n			\n				Share on LinkedIn (Opens in new window)\n				LinkedIn\n			\n				Share on X (Opens in new window)\n				X
URL:https://icaf-es-association.org/event/thirsty-thursday-5/
LOCATION:Crystal City Sports Club\, 529 23rd St S\, Arlington\, BA\, 22202
CATEGORIES:Alumni,Association,Student,Thirsty Thursday
END:VEVENT
BEGIN:VEVENT
DTSTART;TZID=America/New_York:20220808T110000
DTEND;TZID=America/New_York:20220808T130000
DTSTAMP:20260424T132018
CREATED:20220726T191147Z
LAST-MODIFIED:20220726T191147Z
UID:1746-1659956400-1659963600@icaf-es-association.org
SUMMARY:Alumni Sponsored Chick Fil-A Luncheon for Faculty + Students
DESCRIPTION:Share this:\n				Share on Facebook (Opens in new window)\n				Facebook\n			\n				Share on LinkedIn (Opens in new window)\n				LinkedIn\n			\n				Share on X (Opens in new window)\n				X
URL:https://icaf-es-association.org/event/alumni-sponsored-chick-fil-a-luncheon-for-faculty-students/
LOCATION:Arlington
CATEGORIES:Student
END:VEVENT
BEGIN:VEVENT
DTSTART;TZID=America/New_York:20220803T080000
DTEND;TZID=America/New_York:20220803T160000
DTSTAMP:20260424T132018
CREATED:20220726T191020Z
LAST-MODIFIED:20220726T191020Z
UID:1744-1659513600-1659542400@icaf-es-association.org
SUMMARY:Health and Wellness Orientation and remainder of ES Orientation
DESCRIPTION:Share this:\n				Share on Facebook (Opens in new window)\n				Facebook\n			\n				Share on LinkedIn (Opens in new window)\n				LinkedIn\n			\n				Share on X (Opens in new window)\n				X
URL:https://icaf-es-association.org/event/health-and-wellness-orientation-and-remainder-of-es-orientation/
LOCATION:Arlington
CATEGORIES:Student
END:VEVENT
BEGIN:VEVENT
DTSTART;TZID=America/New_York:20220802T080000
DTEND;TZID=America/New_York:20220802T160000
DTSTAMP:20260424T132018
CREATED:20220726T190953Z
LAST-MODIFIED:20220726T190953Z
UID:1742-1659427200-1659456000@icaf-es-association.org
SUMMARY:NDU Student Orientation and Concentration Breakouts
DESCRIPTION:Share this:\n				Share on Facebook (Opens in new window)\n				Facebook\n			\n				Share on LinkedIn (Opens in new window)\n				LinkedIn\n			\n				Share on X (Opens in new window)\n				X
URL:https://icaf-es-association.org/event/ndu-student-orientation-and-concentration-breakouts/
LOCATION:Arlington
CATEGORIES:Student
END:VEVENT
BEGIN:VEVENT
DTSTART;TZID=America/New_York:20220801T080000
DTEND;TZID=America/New_York:20220801T160000
DTSTAMP:20260424T132018
CREATED:20220726T190746Z
LAST-MODIFIED:20220726T190921Z
UID:1739-1659340800-1659369600@icaf-es-association.org
SUMMARY:New Student - Class of 2023 - In-Processing + Orientation
DESCRIPTION:Come and see your Alumni Association! \nShare this:\n				Share on Facebook (Opens in new window)\n				Facebook\n			\n				Share on LinkedIn (Opens in new window)\n				LinkedIn\n			\n				Share on X (Opens in new window)\n				X
URL:https://icaf-es-association.org/event/new-student-class-of-2023-in-processing/
LOCATION:Arlington
CATEGORIES:Student
END:VEVENT
BEGIN:VEVENT
DTSTART;VALUE=DATE:20220614
DTEND;VALUE=DATE:20220615
DTSTAMP:20260424T132018
CREATED:20170503T011917Z
LAST-MODIFIED:20170503T011917Z
UID:1510-1655164800-1655251199@icaf-es-association.org
SUMMARY:Army Birthday
DESCRIPTION:The U.S. Army was founded on 14 June 1775. \nShare this:\n				Share on Facebook (Opens in new window)\n				Facebook\n			\n				Share on LinkedIn (Opens in new window)\n				LinkedIn\n			\n				Share on X (Opens in new window)\n				X
URL:https://icaf-es-association.org/event/army-birthday-2022-06-14/
LOCATION:Arlington
CATEGORIES:Service Birthdays
END:VEVENT
BEGIN:VEVENT
DTSTART;VALUE=DATE:20220430
DTEND;VALUE=DATE:20220501
DTSTAMP:20260424T132018
CREATED:20220207T185644Z
LAST-MODIFIED:20220207T185644Z
UID:1688-1651276800-1651363199@icaf-es-association.org
SUMMARY:Scholarship Application are DUE TODAY!
DESCRIPTION:Here are the details on our scholarships: https://icaf-es-association.org/2022-scholarship-applications/ \nShare this:\n				Share on Facebook (Opens in new window)\n				Facebook\n			\n				Share on LinkedIn (Opens in new window)\n				LinkedIn\n			\n				Share on X (Opens in new window)\n				X
URL:https://icaf-es-association.org/event/scholarship-application-are-due-today/
LOCATION:Arlington
CATEGORIES:Alumni,Association,Student
END:VEVENT
BEGIN:VEVENT
DTSTART;TZID=America/New_York:20220421T170000
DTEND;TZID=America/New_York:20220421T170000
DTSTAMP:20260424T132018
CREATED:20220301T151353Z
LAST-MODIFIED:20220421T123037Z
UID:1719-1650560400-1650560400@icaf-es-association.org
SUMMARY:Thirsty Thursday
DESCRIPTION:5:00pm \nCrystal City Sports Pub\, 529 23rd St S\, Arlington\, VA 22202 \nShare this:\n				Share on Facebook (Opens in new window)\n				Facebook\n			\n				Share on LinkedIn (Opens in new window)\n				LinkedIn\n			\n				Share on X (Opens in new window)\n				X
URL:https://icaf-es-association.org/event/thirsty-thursday-4/
LOCATION:Crystal City Sports Club\, 529 23rd St S\, Arlington\, BA\, 22202
CATEGORIES:Alumni,Association,Social,Student,Thirsty Thursday
END:VEVENT
BEGIN:VEVENT
DTSTART;VALUE=DATE:20220411
DTEND;VALUE=DATE:20220412
DTSTAMP:20260424T132018
CREATED:20170503T012841Z
LAST-MODIFIED:20170503T012841Z
UID:1462-1649635200-1649721599@icaf-es-association.org
SUMMARY:Navy Submarine Birthday
DESCRIPTION:The Navy’s submarine force was born on April 11\, 1900. \nShare this:\n				Share on Facebook (Opens in new window)\n				Facebook\n			\n				Share on LinkedIn (Opens in new window)\n				LinkedIn\n			\n				Share on X (Opens in new window)\n				X
URL:https://icaf-es-association.org/event/navy-submarine-birthday-2022-04-11/
LOCATION:Arlington
CATEGORIES:Service Birthdays
END:VEVENT
BEGIN:VEVENT
DTSTART;TZID=America/New_York:20220228T080000
DTEND;TZID=America/New_York:20220304T170000
DTSTAMP:20260424T132018
CREATED:20220228T194640Z
LAST-MODIFIED:20220228T194640Z
UID:1717-1646035200-1646413200@icaf-es-association.org
SUMMARY:Week 1: March Madness Sale
DESCRIPTION:Click here to view the sale items \nShare this:\n				Share on Facebook (Opens in new window)\n				Facebook\n			\n				Share on LinkedIn (Opens in new window)\n				LinkedIn\n			\n				Share on X (Opens in new window)\n				X
URL:https://icaf-es-association.org/event/week-1-march-madness-sale/
LOCATION:Arlington
END:VEVENT
BEGIN:VEVENT
DTSTART;TZID=America/New_York:20220210T170000
DTEND;TZID=America/New_York:20220210T170000
DTSTAMP:20260424T132018
CREATED:20220207T184741Z
LAST-MODIFIED:20220207T184741Z
UID:1681-1644512400-1644512400@icaf-es-association.org
SUMMARY:Thirsty Thursday
DESCRIPTION:Share this:\n				Share on Facebook (Opens in new window)\n				Facebook\n			\n				Share on LinkedIn (Opens in new window)\n				LinkedIn\n			\n				Share on X (Opens in new window)\n				X
URL:https://icaf-es-association.org/event/thirsty-thursday-3/
LOCATION:Crystal City Sports Club\, 529 23rd St S\, Arlington\, BA\, 22202
CATEGORIES:Alumni,Social,Student,Thirsty Thursday
END:VEVENT
BEGIN:VEVENT
DTSTART;VALUE=DATE:20211213
DTEND;VALUE=DATE:20211214
DTSTAMP:20260424T132018
CREATED:20170503T012633Z
LAST-MODIFIED:20170503T012633Z
UID:1440-1639353600-1639439999@icaf-es-association.org
SUMMARY:National Guard Birthday
DESCRIPTION:The National Guard is the oldest component of the Armed Forces of the United States\, formed on Dec. 13\, 1636. \nShare this:\n				Share on Facebook (Opens in new window)\n				Facebook\n			\n				Share on LinkedIn (Opens in new window)\n				LinkedIn\n			\n				Share on X (Opens in new window)\n				X
URL:https://icaf-es-association.org/event/national-guard-birthday-2021-12-13/
LOCATION:Arlington
CATEGORIES:Service Birthdays
END:VEVENT
BEGIN:VEVENT
DTSTART;VALUE=DATE:20211110
DTEND;VALUE=DATE:20211111
DTSTAMP:20260424T132018
CREATED:20170503T012300Z
LAST-MODIFIED:20170503T012300Z
UID:1438-1636502400-1636588799@icaf-es-association.org
SUMMARY:Marine Corps Birthday
DESCRIPTION:The Marine Corps was founded on Nov. 10\, 1775. \nShare this:\n				Share on Facebook (Opens in new window)\n				Facebook\n			\n				Share on LinkedIn (Opens in new window)\n				LinkedIn\n			\n				Share on X (Opens in new window)\n				X
URL:https://icaf-es-association.org/event/marine-corps-birthday-2021-11-10/
LOCATION:Arlington
CATEGORIES:Service Birthdays
END:VEVENT
BEGIN:VEVENT
DTSTART;VALUE=DATE:20211013
DTEND;VALUE=DATE:20211014
DTSTAMP:20260424T132018
CREATED:20170503T012518Z
LAST-MODIFIED:20170503T012518Z
UID:1434-1634083200-1634169599@icaf-es-association.org
SUMMARY:Navy Birthday
DESCRIPTION:The Navy’s origins trace back to Oct. 13\, 1775. \nShare this:\n				Share on Facebook (Opens in new window)\n				Facebook\n			\n				Share on LinkedIn (Opens in new window)\n				LinkedIn\n			\n				Share on X (Opens in new window)\n				X
URL:https://icaf-es-association.org/event/navy-birthday-2021-10-13/
LOCATION:Arlington
CATEGORIES:Service Birthdays
END:VEVENT
END:VCALENDAR