BEGIN:VCALENDAR
VERSION:2.0
PRODID:-//Association of ICAF and ES Alumni - ECPv6.15.20//NONSGML v1.0//EN
CALSCALE:GREGORIAN
METHOD:PUBLISH
X-WR-CALNAME:Association of ICAF and ES Alumni
X-ORIGINAL-URL:https://icaf-es-association.org
X-WR-CALDESC:Events for Association of ICAF and ES Alumni
REFRESH-INTERVAL;VALUE=DURATION:PT1H
X-Robots-Tag:noindex
X-PUBLISHED-TTL:PT1H
BEGIN:VTIMEZONE
TZID:America/New_York
BEGIN:DAYLIGHT
TZOFFSETFROM:-0500
TZOFFSETTO:-0400
TZNAME:EDT
DTSTART:20160313T070000
END:DAYLIGHT
BEGIN:STANDARD
TZOFFSETFROM:-0400
TZOFFSETTO:-0500
TZNAME:EST
DTSTART:20161106T060000
END:STANDARD
BEGIN:DAYLIGHT
TZOFFSETFROM:-0500
TZOFFSETTO:-0400
TZNAME:EDT
DTSTART:20170312T070000
END:DAYLIGHT
BEGIN:STANDARD
TZOFFSETFROM:-0400
TZOFFSETTO:-0500
TZNAME:EST
DTSTART:20171105T060000
END:STANDARD
BEGIN:DAYLIGHT
TZOFFSETFROM:-0500
TZOFFSETTO:-0400
TZNAME:EDT
DTSTART:20180311T070000
END:DAYLIGHT
BEGIN:STANDARD
TZOFFSETFROM:-0400
TZOFFSETTO:-0500
TZNAME:EST
DTSTART:20181104T060000
END:STANDARD
END:VTIMEZONE
BEGIN:VEVENT
DTSTART;TZID=America/New_York:20170406T173000
DTEND;TZID=America/New_York:20170406T193000
DTSTAMP:20260424T233938
CREATED:20170404T214004Z
LAST-MODIFIED:20171107T222851Z
UID:389-1491499800-1491507000@icaf-es-association.org
SUMMARY:Thirsty Thursday\, D.C.
DESCRIPTION:Mix and mingle with fellow alumni. \nShare this:\n				Share on Facebook (Opens in new window)\n				Facebook\n			\n				Share on LinkedIn (Opens in new window)\n				LinkedIn\n			\n				Share on X (Opens in new window)\n				X
URL:https://icaf-es-association.org/event/thirsty-thursday-d-c/
LOCATION:Siné Irish Pub\, 1301 S Joyce Street\, Arlington\, VA\, 22202\, United States
CATEGORIES:Thirsty Thursday
END:VEVENT
BEGIN:VEVENT
DTSTART;TZID=America/New_York:20170406T163000
DTEND;TZID=America/New_York:20170406T180000
DTSTAMP:20260424T233938
CREATED:20170404T214342Z
LAST-MODIFIED:20170404T214357Z
UID:395-1491496200-1491501600@icaf-es-association.org
SUMMARY:Thirsty Thursday\, OKC
DESCRIPTION:Mix and mingle with fellow alumni. Contact 2015 ES alumnus Lorie Wade for more info. \nShare this:\n				Share on Facebook (Opens in new window)\n				Facebook\n			\n				Share on LinkedIn (Opens in new window)\n				LinkedIn\n			\n				Share on X (Opens in new window)\n				X
URL:https://icaf-es-association.org/event/thirsty-thursday-okc/
LOCATION:VA
ORGANIZER;CN="Lorie Wade":MAILTO:wwwade@att.net
END:VEVENT
BEGIN:VEVENT
DTSTART;VALUE=DATE:20170403
DTEND;VALUE=DATE:20170406
DTSTAMP:20260424T233938
CREATED:20170331T041053Z
LAST-MODIFIED:20170331T041110Z
UID:366-1491177600-1491436799@icaf-es-association.org
SUMMARY:Navy League Air Sea Space Expo
DESCRIPTION:Visit us at Booth PL-10 for a chance to win Flags of Valor Phantom Fury artwork.  \nShare this:\n				Share on Facebook (Opens in new window)\n				Facebook\n			\n				Share on LinkedIn (Opens in new window)\n				LinkedIn\n			\n				Share on X (Opens in new window)\n				X
URL:https://icaf-es-association.org/event/navy-league-air-sea-space-expo/
LOCATION:Gaylord National Resort and Convention Center\, 201 Waterfront Street\, Oxon Hill\, MD\, 20745\, United States
END:VEVENT
END:VCALENDAR